BEGIN:VCALENDAR
VERSION:2.0
PRODID:icalendar-ruby
CALSCALE:GREGORIAN
METHOD:PUBLISH
BEGIN:VEVENT
DTSTAMP:20260421T205507Z
UID:12-976981@kokomophc.org
DTSTART:20261011T144500Z
DTEND:20261011T160000Z
CLASS:PUBLIC
CREATED:20260421T152955
DESCRIPTION:Traditional Worship Service
LAST-MODIFIED:20260421T152955
LOCATION:
SUMMARY:Sunday Morning Worship
URL;VALUE=URI:https://kokomophc.org/events/sunday-morning-worship--12/2026-
 10-11
ATTACH;FILENAME=received_283718862961289.jpg;FMTTYPE=image/jpeg:https://dq5
 pwpg1q8ru0.cloudfront.net/2023/04/06/17/18/47/744a7474-74ce-4c97-a53f-c7dd
 6aced4e0/received_283718862961289.jpg
END:VEVENT
END:VCALENDAR
