BEGIN:VCALENDAR
VERSION:2.0
PRODID:icalendar-ruby
CALSCALE:GREGORIAN
METHOD:PUBLISH
BEGIN:VEVENT
DTSTAMP:20260421T020551Z
UID:14-974367@kokomophc.org
DTSTART:20261014T230000Z
DTEND:20261015T000000Z
CLASS:PUBLIC
CREATED:20260420T203158
DESCRIPTION:
LAST-MODIFIED:20260420T203158
LOCATION:
SUMMARY:Midweek Bible Study
URL;VALUE=URI:https://kokomophc.org/events/midweek-bible-study--14/2026-10-
 14
ATTACH;FILENAME=F3wMS.jpg;FMTTYPE=image/jpeg:https://dq5pwpg1q8ru0.cloudfro
 nt.net/2023/04/06/17/23/01/85aab176-42f3-4527-afa9-3e2fc4da8da6/F3wMS.jpg
END:VEVENT
END:VCALENDAR
